BEGIN:VCALENDAR
VERSION:2.0
PRODID:-//India Association of Greater Charleston - ECPv6.15.20//NONSGML v1.0//EN
CALSCALE:GREGORIAN
METHOD:PUBLISH
X-WR-CALNAME:India Association of Greater Charleston
X-ORIGINAL-URL:https://iagcchs.org
X-WR-CALDESC:Events for India Association of Greater Charleston
REFRESH-INTERVAL;VALUE=DURATION:PT1H
X-Robots-Tag:noindex
X-PUBLISHED-TTL:PT1H
BEGIN:VTIMEZONE
TZID:America/New_York
BEGIN:DAYLIGHT
TZOFFSETFROM:-0500
TZOFFSETTO:-0400
TZNAME:EDT
DTSTART:20240310T070000
END:DAYLIGHT
BEGIN:STANDARD
TZOFFSETFROM:-0400
TZOFFSETTO:-0500
TZNAME:EST
DTSTART:20241103T060000
END:STANDARD
BEGIN:DAYLIGHT
TZOFFSETFROM:-0500
TZOFFSETTO:-0400
TZNAME:EDT
DTSTART:20250309T070000
END:DAYLIGHT
BEGIN:STANDARD
TZOFFSETFROM:-0400
TZOFFSETTO:-0500
TZNAME:EST
DTSTART:20251102T060000
END:STANDARD
BEGIN:DAYLIGHT
TZOFFSETFROM:-0500
TZOFFSETTO:-0400
TZNAME:EDT
DTSTART:20260308T070000
END:DAYLIGHT
BEGIN:STANDARD
TZOFFSETFROM:-0400
TZOFFSETTO:-0500
TZNAME:EST
DTSTART:20261101T060000
END:STANDARD
END:VTIMEZONE
BEGIN:VEVENT
DTSTART;TZID=America/New_York:20251026T110000
DTEND;TZID=America/New_York:20251026T160000
DTSTAMP:20260425T233559
CREATED:20251011T221020Z
LAST-MODIFIED:20251011T221020Z
UID:1971-1761476400-1761494400@iagcchs.org
SUMMARY:India Food Fest 2025
DESCRIPTION:India Food Fest 2025\n\nA celebration of India’s rich culinary heritage — featuring bold spices\, comforting classics\, and sweet indulgences from every corner of the country!\n Date: 26th October\, 2025 Time: 11:00 am – 4:00 pm Venue:\n What to Expect: Authentic Indian cuisine Street food stalls Music\, vibes & cultural decor Bounce house for kids Traditional jewelry & Indian traditional wear stalls Henna (mehndi) art…and much more!\n Open to all – bring your friends and family\, your appetite\, and your love for great food!\n Follow us here for sneak peeks and more updates!
URL:https://iagcchs.org/event/india-food-fest-2025/
LOCATION:Scottish Rite Centre\, 1051 Sam Rittenberg Blvd\, Charleston\, SC 29407\, Scottish Rite Centre\, 1051 Sam Rittenberg Blvd\, Charleston\, SC\, 29407\, United States
ORGANIZER;CN="India Association Of Greater Charleston":MAILTO:info@iagcchs.org
END:VEVENT
END:VCALENDAR