BEGIN:VCALENDAR
VERSION:2.0
PRODID:-//India Association of Greater Charleston - ECPv6.15.20//NONSGML v1.0//EN
CALSCALE:GREGORIAN
METHOD:PUBLISH
X-ORIGINAL-URL:https://iagcchs.org
X-WR-CALDESC:Events for India Association of Greater Charleston
REFRESH-INTERVAL;VALUE=DURATION:PT1H
X-Robots-Tag:noindex
X-PUBLISHED-TTL:PT1H
BEGIN:VTIMEZONE
TZID:America/New_York
BEGIN:DAYLIGHT
TZOFFSETFROM:-0500
TZOFFSETTO:-0400
TZNAME:EDT
DTSTART:20250309T070000
END:DAYLIGHT
BEGIN:STANDARD
TZOFFSETFROM:-0400
TZOFFSETTO:-0500
TZNAME:EST
DTSTART:20251102T060000
END:STANDARD
BEGIN:DAYLIGHT
TZOFFSETFROM:-0500
TZOFFSETTO:-0400
TZNAME:EDT
DTSTART:20260308T070000
END:DAYLIGHT
BEGIN:STANDARD
TZOFFSETFROM:-0400
TZOFFSETTO:-0500
TZNAME:EST
DTSTART:20261101T060000
END:STANDARD
BEGIN:DAYLIGHT
TZOFFSETFROM:-0500
TZOFFSETTO:-0400
TZNAME:EDT
DTSTART:20270314T070000
END:DAYLIGHT
BEGIN:STANDARD
TZOFFSETFROM:-0400
TZOFFSETTO:-0500
TZNAME:EST
DTSTART:20271107T060000
END:STANDARD
END:VTIMEZONE
BEGIN:VEVENT
DTSTART;TZID=America/New_York:20260328T100000
DTEND;TZID=America/New_York:20260328T170000
DTSTAMP:20260425T103643
CREATED:20260317T024911Z
LAST-MODIFIED:20260317T024911Z
UID:1987-1774692000-1774717200@iagcchs.org
SUMMARY:IAGC Spring Picnic & Festival of Colors 2026
DESCRIPTION:Spring Picnic and Festival of Colors – 2026\nIndia Association of Greater Charleston Presents – Festival of Colors 2026! \nGet ready for the most awaited and most loved event of the year – our annual Spring Picnic & Festival of Colors! \nAs we welcome spring\, let’s come together to celebrate friendship\, community\, colors\, music\, dance\, and of course… delicious food! \nThis is the event where our community truly comes alive\, families reconnect\, friends mingle\, kids laugh freely\, and everyone enjoys the vibrant essence of colors and togetherness. From flavorful food to energetic music and joyful dancing\, this picnic is the perfect way to kick off the year with positivity and celebration!\n Ashley River Park – Loblolly Shelter200 Renken Rd\, Summerville\, SC 29485 March 28\, 2026 10:00 AM onwards\n Members & Kids below 5: FREE Non-Members: $15\n Prepay via Zelle: pay@iagcchs.org Don’t forget to RSVP (scan the QR code on the flyer!)\nBring your friends\, bring your family\, and bring your festive spirit! Wear comfortable clothes\, come ready to play with colors\, and let’s make beautiful memories together. \nLet’s celebrate spring the IAGC way — full of colors\, culture\, laughter\, and love!
URL:https://iagcchs.org/event/iagc-spring-picnic-festival-of-colors-2026/
LOCATION:200 Renken Rd\, Summerville\, SC 29485\, 200 Renken Rd\, \, SC\, Summerville\, SC\, 29485\, United States
ORGANIZER;CN="India Association Of Greater Charleston":MAILTO:info@iagcchs.org
END:VEVENT
END:VCALENDAR